BEGIN:VCALENDAR
VERSION:2.0
PRODID:-//Concept+Partners - ECPv5.4.0.2//NONSGML v1.0//EN
CALSCALE:GREGORIAN
METHOD:PUBLISH
X-WR-CALNAME:Concept+Partners
X-ORIGINAL-URL:https://www.conceptpartners.lu
X-WR-CALDESC:Events for Concept+Partners
BEGIN:VTIMEZONE
TZID:Europe/Luxembourg
BEGIN:DAYLIGHT
TZOFFSETFROM:+0100
TZOFFSETTO:+0200
TZNAME:CEST
DTSTART:20200329T010000
END:DAYLIGHT
BEGIN:STANDARD
TZOFFSETFROM:+0200
TZOFFSETTO:+0100
TZNAME:CET
DTSTART:20201025T010000
END:STANDARD
END:VTIMEZONE
BEGIN:VEVENT
DTSTART;TZID=Europe/Luxembourg:20201004T180000
DTEND;TZID=Europe/Luxembourg:20201004T220000
DTSTAMP:20210422T114052
CREATED:20200915T000354Z
LAST-MODIFIED:20200915T074125Z
UID:67237-1601834400-1601848800@www.conceptpartners.lu
SUMMARY:Kin Khao 3rd Birthday Week
DESCRIPTION:— 🇹🇭THAI FEELS 🇹🇭— \n3 years ago\, we opened our doors to Thailand in Luxembourg. It’s been 3 years that you trust us. We have decided to celebrate our third anniversary in style. \nEnjoy our special menu and be the first to taste the delights from the upcoming new menu at Kin Khao. \nWho says anniversary says gift. That’s why we have decided to spoil you every dinner service during one week. \n#ThaiFeels #KinKhaoLux\n————————————–\nANNIVERSARY SPECIALS 😋 \n-WELCOME DRINK\n-FREE FINGERFOOD\n-LUCKY DRAW\n-LIVE SHOW COOKING\n-THAI DANCE SHOWS\n-AND MUCH MORE \n————————————–\nReservations 📞 +352 2740 6000 💻 www.kinkhao.lu
URL:https://www.conceptpartners.lu/event/kin-khao-3-years-anniversary/2020-10-04/
LOCATION:Kin Khao
CATEGORIES:Club
ATTACH;FMTTYPE=image/jpeg:https://www.conceptpartners.lu/wp-content/uploads/2020/09/10_03_KK.jpg
END:VEVENT
END:VCALENDAR