BEGIN:VCALENDAR
VERSION:2.0
PRODID:-//Concept+Partners - ECPv5.4.0.2//NONSGML v1.0//EN
CALSCALE:GREGORIAN
METHOD:PUBLISH
X-WR-CALNAME:Concept+Partners
X-ORIGINAL-URL:https://www.conceptpartners.lu
X-WR-CALDESC:Events for Concept+Partners
BEGIN:VTIMEZONE
TZID:Europe/Luxembourg
BEGIN:DAYLIGHT
TZOFFSETFROM:+0100
TZOFFSETTO:+0200
TZNAME:CEST
DTSTART:20200329T010000
END:DAYLIGHT
BEGIN:STANDARD
TZOFFSETFROM:+0200
TZOFFSETTO:+0100
TZNAME:CET
DTSTART:20201025T010000
END:STANDARD
END:VTIMEZONE
BEGIN:VEVENT
DTSTART;TZID=Europe/Luxembourg:20200925T200000
DTEND;TZID=Europe/Luxembourg:20200926T000000
DTSTAMP:20210422T075540
CREATED:20200722T112709Z
LAST-MODIFIED:20200730T083717Z
UID:66713-1601064000-1601078400@www.conceptpartners.lu
SUMMARY:Seated Clubbing with the best DJs
DESCRIPTION:••• ???? SEATED CLUBBING ???? ••••••••\nLet’s do it on our seats!!!\nHitch is back with good food and the finest music. Let’s listen to good DJs while meeting our friends that we have missed.\nOf course\, we respect the necessary security rules. This is a strictly seated party.\n•••••••• •••••••• •••••••• ••••••••\n24.07: DJ DAMA\n31.07: DJ FLEX DIAMOND\n07.08: DJ SE7EN\n14.08: DJ SE7EN\n•••••••• •••••••• •••••••• ••••••••\n????Find us\n????Follow us\n????Like us\n#seatedclubbing #hitchlxb\n•••••••• •••••••• •••••••• ••••••••\nFree entrance!\nAge 21+\n•••••••• •••••••• •••••••• ••••••••\nA T T R A C T I O N S\n????Cocktails\n????Terrace\n????Food\n????Music\n•••••••• •••••••• •••••••• ••••••••\nBook your table online: www.hitch.lu or call us: (+352) 2740 2125 for special deals to table reservations.\n✪ www.facebook.com/hitchluxembourg\n✪ www.hitch.lu\n•••••••• •••••••• •••••••• ••••••••\nHitch – Where Food meets Party\nLocated in Limpertsberg\, with easy access and Parking du Glacis right across the street.\n21-25 Allee Scheffer\nLuxembourg\, Glacis
URL:https://www.conceptpartners.lu/event/seated-clubbing-with-the-best-djs-5/2020-09-25/
LOCATION:Hitch Luxembourg
CATEGORIES:Club
ATTACH;FMTTYPE=image/jpeg:https://www.conceptpartners.lu/wp-content/uploads/2020/06/HITCH_Fridays.jpg
END:VEVENT
END:VCALENDAR