BEGIN:VCALENDAR
VERSION:2.0
PRODID:-//Concept+Partners - ECPv5.4.0.2//NONSGML v1.0//EN
CALSCALE:GREGORIAN
METHOD:PUBLISH
X-WR-CALNAME:Concept+Partners
X-ORIGINAL-URL:https://www.conceptpartners.lu
X-WR-CALDESC:Events for Concept+Partners
BEGIN:VTIMEZONE
TZID:Europe/Luxembourg
BEGIN:DAYLIGHT
TZOFFSETFROM:+0100
TZOFFSETTO:+0200
TZNAME:CEST
DTSTART:20200329T010000
END:DAYLIGHT
BEGIN:STANDARD
TZOFFSETFROM:+0200
TZOFFSETTO:+0100
TZNAME:CET
DTSTART:20201025T010000
END:STANDARD
END:VTIMEZONE
BEGIN:VEVENT
DTSTART;TZID=Europe/Luxembourg:20200928T180000
DTEND;TZID=Europe/Luxembourg:20200928T220000
DTSTAMP:20210422T075939
CREATED:20200914T154649Z
LAST-MODIFIED:20200914T154649Z
UID:67204-1601316000-1601330400@www.conceptpartners.lu
SUMMARY:Thai Curry Night (all you can eat)
DESCRIPTION:🇹🇭THAI FEELS 🇹🇭Thai Curry Night 🌶🥡🍤\n————————————————– \nAll you can eat Curry Night \n29€ per person \nOrder one normal sized curry or 5 small curries at the time.\nEat and repeat as many times as you want \nNot recommended for kids \n————————————————– \nWherever you go in Thailand – province\, region or village – everyone has a favorite curry\, which they firmly believe to be superior to all other. Thailand curries are diverse\, and the range can be both bewildering and at time contentious. This huge array is the delicious outcome of the availability of ingredients\, the changing seasons\, regional variations\, different techniques tastes and local customs. \nThe Thai word for curry ‘geng’ has far wider application than the English approximation suggests. It means any wet savory dish enriched and thickened by a paste. Curries are more specifically called ‘geng ped’ or thickened spicy liquids. \nPass by and take your bite on the way home or stay and enjoy some relaxed vibes. We promise\, you will feel almost like in Thailand. Only the beach is missing 😉
URL:https://www.conceptpartners.lu/event/thai-curry-night-all-you-can-eat/2020-09-28/
LOCATION:Kin Khao
CATEGORIES:Dinner
ATTACH;FMTTYPE=image/jpeg:https://www.conceptpartners.lu/wp-content/uploads/2020/09/KK-Mondays.jpg
END:VEVENT
END:VCALENDAR